BEGIN:VCALENDAR
VERSION:2.0
PRODID:-//BPW Ticino//NONSGML kigkonsult.se iCalcreator 2.16.12//
METHOD:PUBLISH
X-MS-OLK-FORCEINSPECTOROPEN:TRUE
BEGIN:VEVENT
UID:20260422T194808CEST-2924g6JtO2@BPW Ticino
DTSTAMP:20260422T174808Z
DESCRIPTION:\nConférence des présidentes - élargie - sous la devise « deven
 ir BPW – rester BPW».\n\nLa conférence des présidentes est un événement po
 ur toutes les présidentes de club de BPW Switzerland et l'occasion de pass
 er en revue l'année associative\, de recevoir des inputs et des idées pour
  l'année associative à venir et bien sûr d'entretenir le réseau.\n\nLa man
 ifestation de cette année sera élargie - vos besoins sont importants pour 
 nous!\n\nLes présidentes de club et leurs collègues du comité échangeront 
 ensuite de manière interactive leurs idées\, leurs souhaits et leurs besoi
 ns. L'objectif est que nous sachions\, en tant que comité central\, commen
 t soutenir les clubs de manière plus efficace et comment\, toutes ensemble
 \, nous pouvons représenter nos valeurs et nos objectifs de manière encore
  plus présente. Car BPW est plus qu'un réseau....\n\nIl s'agit d'un événem
 ent de présence : nous vous invitons cordialement\, en tant que présidente
 s avec 1 ou 2 femmes du comité\, à l'hôtel Astoria à Olten.\n\nLa particip
 ation est gratuite pour les présidentes de club et les membres de comité. 
 Après la conférence\, nous partagerons un déjeuner. La manifestation Nous 
 vous prions de vous inscrire avant le 21 novembre\n\nLes inscriptions sont
  closes. Pour les inscriptions tardives\, veuillez envoyer un e-mail à inf
 o@bpw.ch\n\n\n\n
DTSTART:20241130T093000
DTEND:20241130T140000
ORGANIZER:MAILTO:BPW Ticino <info@bpw-ticino.ch>
SUMMARY:Conférence d'automne BPW Switzerland 2024
END:VEVENT
END:VCALENDAR
