BEGIN:VCALENDAR
VERSION:2.0
PRODID:-//BPW Ticino//NONSGML kigkonsult.se iCalcreator 2.16.12//
METHOD:PUBLISH
X-MS-OLK-FORCEINSPECTOROPEN:TRUE
BEGIN:VEVENT
UID:20260422T212344CEST-7102KRNJ83@BPW Ticino
DTSTAMP:20260422T192344Z
DESCRIPTION:
DTSTART:20240909T180000
DTEND:20240909T203000
LOCATION:Villa Sassa
ORGANIZER:MAILTO:BPW Ticino <info@bpw-ticino.ch>
SUMMARY:Riforma LPP e Novità Fiscali: uno sguardo alla votazione federale d
 el 22 settembre 2024 e alla modifica della Legge Tributaria in Ticino appr
 ovata il 9 giugno 2024.
END:VEVENT
END:VCALENDAR
