BEGIN:VCALENDAR
VERSION:2.0
PRODID:-//BPW Ticino//NONSGML kigkonsult.se iCalcreator 2.16.12//
METHOD:PUBLISH
X-MS-OLK-FORCEINSPECTOROPEN:TRUE
BEGIN:VEVENT
UID:20260422T212353CEST-7392aEv79I@BPW Ticino
DTSTAMP:20260422T192353Z
DESCRIPTION:In occasione del Locarno Film Festival\, tra le più importanti 
 manifestazioni cinematografiche d’Europa\, sfileremo sul tappeto rosso per
  assistere alla proiezione di uno dei film in concorso in Piazza Grande\, 
 dopo esserci intrattenute in un piacevole aperitivo. 
DTSTART:20240808T180000
DTEND:20240808T233000
LOCATION:Locarno
ORGANIZER:MAILTO:BPW Ticino <info@bpw-ticino.ch>
SUMMARY:77º Locarno Film Festival - Serata Red Carpet 
END:VEVENT
END:VCALENDAR
