BEGIN:VCALENDAR
VERSION:2.0
PRODID:-//BPW Ticino//NONSGML kigkonsult.se iCalcreator 2.16.12//
METHOD:PUBLISH
X-MS-OLK-FORCEINSPECTOROPEN:TRUE
BEGIN:VEVENT
UID:20260422T211844CEST-5701sfLrwJ@BPW Ticino
DTSTAMP:20260422T191844Z
DESCRIPTION:Il nostro evento mensile sarà dedicato alla presentazione a cur
 a della nostra Vice Presidente\, Sabine Rettich\, dell’organizzazione e de
 lla pianificazione delle correlate attività di intrattenimento della Confe
 renza di Autunno\, che si terrà a Locarno il 19 ottobre prossimo. \n
DTSTART:20240705T180000
DTEND:20240705T200000
ORGANIZER:MAILTO:BPW Ticino <info@bpw-ticino.ch>
SUMMARY:Aperitivo Mensile
END:VEVENT
END:VCALENDAR
