BEGIN:VCALENDAR
VERSION:2.0
PRODID:-//BPW Ticino//NONSGML kigkonsult.se iCalcreator 2.16.12//
METHOD:PUBLISH
X-MS-OLK-FORCEINSPECTOROPEN:TRUE
BEGIN:VEVENT
UID:20260422T212228CEST-6616VUOgH0@BPW Ticino
DTSTAMP:20260422T192228Z
DESCRIPTION:Per il consueto aperitivo mensile\, ci troveremo presso IMPACT 
 HUB\, a Lugano. \n\nIl tema della serata sarà 'L'INTELLIGENZA ARTIFICIALE 
 NELLE AZIENDE E NEL LAVORO'.\n\nPer partecipare alla serata è necessario i
 scriversi tramite questo form entro l' 2.05.2024.  \nPagamento all'ingress
 o tramite contanti o Twint.  
DTSTART:20240506T180000
DTEND:20240506T200000
ORGANIZER:MAILTO:BPW Ticino <info@bpw-ticino.ch>
SUMMARY:Aperitivo Mensile
END:VEVENT
END:VCALENDAR
