BEGIN:VCALENDAR
VERSION:2.0
PRODID:-//BPW Ticino//NONSGML kigkonsult.se iCalcreator 2.16.12//
METHOD:PUBLISH
X-MS-OLK-FORCEINSPECTOROPEN:TRUE
BEGIN:VEVENT
UID:20260422T212021CEST-5829t7Om0M@BPW Ticino
DTSTAMP:20260422T192021Z
DESCRIPTION:Il nostro appuntamento mensile questa volta sarà sabato 13 apri
 le: \n\n	ore 10:30 visita guidata FACCIA A FACCIA presso il MASI a Lugano (
 maggiori informazioni qui): ingresso agevolato 16.--CHF per chi non è in p
 ossesso di una tessera (elenco disponibile qui) e guida offerta dal Club\;
  \n	Brunch di Primavera a cura di Luini6\, Catering ufficiale del MASI-LAC:
  costo 50.--CHF\n\nPagamento all'ingresso. \n\nPer partecipare alla serata
  è necessario iscriversi tramite questo form entro l' 11.04.2024.  
DTSTART:20240413T103000
DTEND:20240413T143000
ORGANIZER:MAILTO:BPW Ticino <info@bpw-ticino.ch>
SUMMARY:Brunch di Primavera e visita MASI 'Faccia a Faccia'
END:VEVENT
END:VCALENDAR
