BEGIN:VCALENDAR
VERSION:2.0
PRODID:-//BPW Ticino//NONSGML kigkonsult.se iCalcreator 2.16.12//
METHOD:PUBLISH
X-MS-OLK-FORCEINSPECTOROPEN:TRUE
BEGIN:VEVENT
UID:20260422T213041CEST-0067vsbaJs@BPW Ticino
DTSTAMP:20260422T193041Z
DESCRIPTION:CLICCA QUI PER ISCRIVERTI E PARTECIPARE ALL'EVENTO\n\n'Che noia
  queste pari opportunità! Uno sguardo sul valore della diversità e oltre..
 .”\n \n\n13 Maggio 2024\, H. 18.00-19.30\nAula A11\, Palazzo Rosso\, USI C
 ampus Ovest\n\nPROGRAMMA\n \n\n18.00-18.10: Benvenuto\n\n\n	Prof.ssa Luisa 
 Lambertini\, Rettrice USI\n	Angelica Morrone\, Co-Presidente BPW Ticino\n\n
 \n18.10-18.30 Keynote Speech: 'Che noia queste pari opportunità! Uno sguar
 do sul valore della diversità e oltre...”\n\n\n	Milena Folletti\, Delegata 
 alla trasformazione digitale presso Repubblica e Cantone Ticino\n\n\n18.30
 -19.00: Panel Discussion\n\n\n	Prof. Gabriele Balbi\, Prorettore per la for
 mazione e la vita universitaria dell'USI (Moderatore) \n\n\n\n	Cristina Zan
 ini Barzaghi\, Contitolare dello studio d'ingegneria Zanini Gozzi Sagl (Me
 ntor BPW)\n	⁠Tijana Catenazzi\, Direttrice HR\, Baxter International (Mento
 r BPW) \n	Gloria Agbakuru\, Master Student in Financial Technology and Comp
 uting\, USI (Mentee) \n	Polina Poliakova\, Studentessa Master in Digital Fa
 shion Communication\, USI (Mentee) \n	Milena Folletti\, Delegata alla trasf
 ormazione digitale presso Repubblica e Cantone Ticino\n\n\n19.00-19.10: Q&
 A\n\n19.10-19.15: Lancio 6a edizione BPW-USI Professional Mentoring Progra
 m\n\n\n	Flávia Vieira de Freitas Gonçalves\, Financial Planning Consultant\
 , Co-Coordinatrice BPW Professional Mentoring Program\n\n\n19.15: Networki
 ng Drink\n \n\nIl Programma è offerto in collaborazione con USI Università
  della Svizzera italiana\,  USI Servizio Carriere e il Servizio Pari Oppor
 tunità. \n\nPer ulteriori dettagli sul BPW-USI Professional Mentoring Prog
 ram\, potete consultare questa pagina.\n
DTSTART:20240513T180000
DTEND:20240513T200000
LOCATION:Palazzo Rosso\, USI Campus Ovest
ORGANIZER:MAILTO:BPW Ticino <info@bpw-ticino.ch>
SUMMARY:Che noia queste pari opportunità! Uno sguardo sul valore della dive
 rsità\, e oltre...
END:VEVENT
END:VCALENDAR
