BEGIN:VCALENDAR
VERSION:2.0
PRODID:-//BPW Ticino//NONSGML kigkonsult.se iCalcreator 2.16.12//
METHOD:PUBLISH
X-MS-OLK-FORCEINSPECTOROPEN:TRUE
BEGIN:VEVENT
UID:20260422T212229CEST-2226uUEE01@BPW Ticino
DTSTAMP:20260422T192229Z
DESCRIPTION: \nThe XXXI BPW International Congress will take place from 17 
 to 21 November 2024 in St. Kitts. The congress location is the St. Kitts M
 arriott Resort and The Royal Beach Casino.\n\nRead the welcome message fro
 m Dr Catherine Bosshart\, BPW International President 2021-2024 here.\n\nA
 t https://stkittscongress.bpw-international.org/ you will find all informa
 tion about the programme\, the locations\, as well as welcome messages fro
 m BPW from the Executive Board and the International and Local Planning Co
 mmittee.\n\nClick here to register and buy tickets\n\nGood to know:\n\n\n	
 \n	NEW: Early Bird Prices are offered for  an extended period until 2 Septe
 mber 2024!\n	\n	\n	After that\, regular prices apply until 15 September 2024
 \n	\n\n\nHere you will find all the latest news about the congress: https:/
 /linktr.ee/bpwinternational\n\nIf you have any questions about the Interna
 tional Congress\, please contact Myriam Heidelberger Kaufmann\, member of 
 the BPW Switzerland Central Committee (myriam.heidelberger@bpw.ch).\n\n
DTSTART:20241117T000000
DTEND:20241121T235900
ORGANIZER:MAILTO:BPW Ticino <info@bpw-ticino.ch>
SUMMARY:BPW International Congress 2024
END:VEVENT
END:VCALENDAR
