BEGIN:VCALENDAR
VERSION:2.0
PRODID:-//BPW Ticino//NONSGML kigkonsult.se iCalcreator 2.16.12//
METHOD:PUBLISH
X-MS-OLK-FORCEINSPECTOROPEN:TRUE
BEGIN:VEVENT
UID:20260422T225839CEST-5192VrkacS@BPW Ticino
DTSTAMP:20260422T205839Z
DESCRIPTION:\n\nLe comité central et le bureau de BPW Switzerland vous invi
 tent à une formation pour les présidentes de club ! Vous êtes une présiden
 te de club en devenir ou déjà élue ? Ou vous souhaitez en savoir plus sur 
 les objectifs de BPW et la fonction de présidente de club ?\n\nCette année
 \, la formation aura à nouveau lieu en personne\, afin de nous donner à to
 utes l'occasion de discuter directement de thèmes et de nous mettre en rés
 eau.\nLe rendez-vous est fixé à 9h15 au secrétariat de BPW Switzerland\, l
 a formation commence à 9h45. L'adresse est la suivante : Länggassstrasse 1
 0\, 3012 Berne.\n\nLors de la formation du 27 avril 2024\, nous parlerons 
 des objectifs et des projets de BPW ainsi que de toutes les questions d'or
 ganisation qui vous concernent en tant que présidente d'un de nos 39 clubs
  dans toute la Suisse.\n\nLa formation durera jusqu'à 13 heures environ. A
  la fin\, vous aurez encore le temps de poser des questions et d'échanger 
 autour d'un petit apéritif.\n\nNous vous prions de vous inscrire au moyen 
 du formulaire ci-dessous jusqu'au 21 avril 2024.\n\nLes personnes qui souh
 aitent se connecter uniquement en ligne peuvent le faire et le mentionner 
 dans leur inscription. En cas de participation via le zoom\, la formation 
 ne peut toutefois être suivie qu'en tant qu'auditrice \; une participation
  active est uniquement possible sur place.\n\nLe lien zoom pour celles qui
  ne peuvent participer qu'en ligne sera envoyé peu avant l'événement.\n\nN
 ous nous réjouissons d'accueillir le plus grand nombre possible d'entre vo
 us sur place et d'avoir un échange animé !\n \n\n\n
DTSTART:20240427T091500
DTEND:20240427T130000
LOCATION:Bern
ORGANIZER:MAILTO:BPW Ticino <info@bpw-ticino.ch>
SUMMARY:Formation pour les nouvelles présidentes de club
END:VEVENT
END:VCALENDAR
