BEGIN:VCALENDAR
VERSION:2.0
PRODID:-//BPW Ticino//NONSGML kigkonsult.se iCalcreator 2.16.12//
METHOD:PUBLISH
X-MS-OLK-FORCEINSPECTOROPEN:TRUE
BEGIN:VEVENT
UID:20260422T211912CEST-0415JDo067@BPW Ticino
DTSTAMP:20260422T191912Z
DESCRIPTION:\nVous êtes intéressé(e) par des conseils et astuces concernant
  le site web et la base de données des membres ? Comment créer des actuali
 tés ? Comment enregistrer un nouveau membre ? Comment concevoir une newsle
 tter ? Comment gérer les adresses e-mail de mon club ?\n\nAfin que tous le
 s responsables du site web et de la banque de données nouvellement élus pr
 ennent un bon départ dans leur fonction et que les anciens puissent rafraî
 chir leurs connaissances\, le secrétariat de BPW Switzerland propose une f
 ormation autour de ces deux outils.\n\nLa formation en ligne du 18 avril 2
 024 sera dispensée en français.\n\nLe 11 avril 2024\, la même formation au
 ra lieu en allemand. Cette formation se déroulera en ligne.\n\nNous vous p
 rions de vous inscrire au moyen du formulaire ci-dessous.\n\n\n
DTSTART:20240418T180000
DTEND:20240418T200000
LOCATION:Online
ORGANIZER:MAILTO:BPW Ticino <info@bpw-ticino.ch>
SUMMARY:Formation pour le site web et la base de données (français)
END:VEVENT
END:VCALENDAR
