BEGIN:VCALENDAR
VERSION:2.0
PRODID:-//BPW Ticino//NONSGML kigkonsult.se iCalcreator 2.16.12//
METHOD:PUBLISH
X-MS-OLK-FORCEINSPECTOROPEN:TRUE
BEGIN:VEVENT
UID:20260422T212525CEST-1742jvXOL0@BPW Ticino
DTSTAMP:20260422T192525Z
DESCRIPTION:La réunion Equal Pay Day se tiendra à Prague (République tchèqu
 e) du 11 au 12 avril 2024. \n\nDe plus amples informations sur le congrès 
 de l'Equal Pay Day suivront après l'annonce officielle.\n \n
DTSTART:20240411T000000
DTEND:20240412T235900
ORGANIZER:MAILTO:BPW Ticino <info@bpw-ticino.ch>
SUMMARY:Equal Pay Day se tiendra à Prague (République tchèque)
END:VEVENT
END:VCALENDAR
