BEGIN:VCALENDAR
VERSION:2.0
PRODID:-//BPW Ticino//NONSGML kigkonsult.se iCalcreator 2.16.12//
METHOD:PUBLISH
X-MS-OLK-FORCEINSPECTOROPEN:TRUE
BEGIN:VEVENT
UID:20260422T212354CEST-6736nooCnd@BPW Ticino
DTSTAMP:20260422T192354Z
DESCRIPTION:La 68a sessione della Commissione sullo status delle donne (CSW
 68-2024) si terrà a New York dall'11 al 22 marzo 2024.\n\nTema principale:
 \nAccelerare la realizzazione dell'uguaglianza di genere e l'empowerment d
 i tutte le donne e le ragazze affrontando la povertà e rafforzando le isti
 tuzioni e i finanziamenti da una prospettiva di genere.\n\nBilancio e revi
 sione dei temi:\nSistemi di protezione sociale\, accesso ai servizi pubbli
 ci e infrastrutture sostenibili per l'uguaglianza di genere e l'empowermen
 t di donne e ragazze (dichiarazione finale concordata della 63a sessione).
 \n\nUlteriori informazioni sulla conferenza\, i temi\, le notizie\, i vide
 o\, le sedi e la prenotazione dei biglietti sono disponibili qui.\n\nNota:
  anche il BPW International Leader's Summit e la Clare Fulcher Dinner dell
 '8 marzo 2024 si terranno a New York dall'8 al 9 marzo.\n\nCome di consuet
 o\, la partecipazione alla CSW68 è limitata a 20 membri per ONG. \n\nSi pr
 ega di inviare le domande di partecipazione alla CSW68 a presidents.office
 @bpw-international.org.\n
DTSTART:20240311T000000
DTEND:20240322T235900
ORGANIZER:MAILTO:BPW Ticino <info@bpw-ticino.ch>
SUMMARY:CSW New York (USA)
END:VEVENT
END:VCALENDAR
