BEGIN:VCALENDAR
VERSION:2.0
PRODID:-//BPW Ticino//NONSGML kigkonsult.se iCalcreator 2.16.12//
METHOD:PUBLISH
X-MS-OLK-FORCEINSPECTOROPEN:TRUE
BEGIN:VEVENT
UID:20260422T212223CEST-07336zCJtE@BPW Ticino
DTSTAMP:20260422T192223Z
DESCRIPTION:Ulteriori informazioni sul BPW International Leaders' Summit 20
 24 seguiranno dopo l'annuncio ufficiale di BPW International.\n
DTSTART:20240308T000000
DTEND:20240309T235900
ORGANIZER:MAILTO:BPW Ticino <info@bpw-ticino.ch>
SUMMARY:BPW International Leaders' Summit\, NY (USA)
END:VEVENT
END:VCALENDAR
