BEGIN:VCALENDAR
VERSION:2.0
PRODID:-//BPW Ticino//NONSGML kigkonsult.se iCalcreator 2.16.12//
METHOD:PUBLISH
X-MS-OLK-FORCEINSPECTOROPEN:TRUE
BEGIN:VEVENT
UID:20260422T212353CEST-4387rm7Vuv@BPW Ticino
DTSTAMP:20260422T192353Z
DESCRIPTION:\nConferenza DACH 2024: ecco il programma!\n\nIl y a deux ans\,
  BPW Switzerland a organisé et réalisé avec succès la dernière conférence 
 DACH à Saint-Gall. Nous avons vécu ensemble des rencontres passionnantes e
 t des conférences enrichissantes.\n\nLa prochaine conférence BPW DACH aura
  lieu du 20 au 22 septembre 2024 à Ulm en Allemagne. Nous pouvons certaine
 ment nous attendre à nouveau à un programme-cadre varié avec des key notes
  et des ateliers inspirants.\n\nLa manifestation est organisée par BPW Ger
 many et s'adresse aux BPW d'Allemagne\, d'Autriche et de Suisse.\n\nL'inte
 ro programma e tutte le informazioni relative sono disponibili qui.\n\n \n
 \nInformazioni sul programma partner e sulle possibilità di alloggio a Ulm
  (in tedesco)\n\n\nI biglietti possono essere acquistati a partire dal 5 l
 uglio 2024 a prezzi Early Bird. In seguito\, si applicheranno i prezzi nor
 mali.\n\n
DTSTART:20240920T000000
DTEND:20240922T235900
LOCATION:St. Gallen\, Schweiz
ORGANIZER:MAILTO:BPW Ticino <info@bpw-ticino.ch>
SUMMARY:Congrès DACH 2024
END:VEVENT
END:VCALENDAR
