BEGIN:VCALENDAR
VERSION:2.0
PRODID:-//BPW Ticino//NONSGML kigkonsult.se iCalcreator 2.16.12//
METHOD:PUBLISH
X-MS-OLK-FORCEINSPECTOROPEN:TRUE
BEGIN:VEVENT
UID:20260422T212313CEST-3077ljlmfp@BPW Ticino
DTSTAMP:20260422T192313Z
DESCRIPTION:Il 17 febbraio è l’Equal Pay Day in Svizzera\, una giornata naz
 ionale di azione che rende visibile il divario salariale tra uomini e donn
 e.\nQuest’anno il focus si concentrerà sul “Gender Pension Gap”\, che si m
 anifesta principalmente nel secondo pilastro. BPW Ticino contribuirà alla 
 discussione in corso e vi invita a partecipare il 29 febbraio alla nostra 
 tavola rotonda: “In viaggio verso la parità: strategie per superare il div
 ario pensionistico”. \nUn’opportunità imperdibile per discutere\, condivid
 ere idee e apprendere strategie concrete per abbattere il divario pensioni
 stico tra uomini e donne.\n\n 29 Febbraio\n 18:00\n Hotel Pestalozzi\, Lug
 ano\n\n\n 
DTSTART:20240229T180000
DTEND:20240229T200000
LOCATION:Hotel Pestalozzi\, Lugano
ORGANIZER:MAILTO:BPW Ticino <info@bpw-ticino.ch>
SUMMARY:EQUAL PAY DAY 2024 - TAVOLA ROTONDA
END:VEVENT
END:VCALENDAR
