BEGIN:VCALENDAR
VERSION:2.0
PRODID:-//BPW Ticino//NONSGML kigkonsult.se iCalcreator 2.16.12//
METHOD:PUBLISH
X-MS-OLK-FORCEINSPECTOROPEN:TRUE
BEGIN:VEVENT
UID:20260422T212230CEST-6198OIX0Ii@BPW Ticino
DTSTAMP:20260422T192230Z
DESCRIPTION:Per il consueto aperitivo mensile\, ci troveremo presso VILLA S
 ASSA\, a Lugano. \n\nIl tema della serata sarà 'INCONTRO CON GLI HEADHUNTE
 RS'.\n\nPer partecipare alla serata è necessario iscriversi tramite questo
  form entro l' 1.03.2024.  \nPagamento all'ingresso tramite contanti o Twi
 nt.  
DTSTART:20240305T180000
DTEND:20240305T200000
ORGANIZER:MAILTO:BPW Ticino <info@bpw-ticino.ch>
SUMMARY:Aperitivo Mensile
END:VEVENT
END:VCALENDAR
