BEGIN:VCALENDAR
VERSION:2.0
PRODID:-//BPW Ticino//NONSGML kigkonsult.se iCalcreator 2.16.12//
METHOD:PUBLISH
X-MS-OLK-FORCEINSPECTOROPEN:TRUE
BEGIN:VEVENT
UID:20260422T212045CEST-5823ONdi3L@BPW Ticino
DTSTAMP:20260422T192045Z
DESCRIPTION:Per il consueto aperitivo mensile\, ci troveremo presso VILLA S
 ASSA\, a Lugano. \n\nIl tema della serata sarà 'PARLARE IN PUBBLICO'.\n\nP
 er partecipare alla serata è necessario iscriversi tramite questo form ent
 ro l' 1.02.2024.  \nPagamento all'ingresso tramite contanti o Twint.  
DTSTART:20240205T180000
DTEND:20240205T200000
LOCATION:Villa Sassa
ORGANIZER:MAILTO:BPW Ticino <info@bpw-ticino.ch>
SUMMARY:Aperitivo Mensile
END:VEVENT
END:VCALENDAR
