BEGIN:VCALENDAR
VERSION:2.0
PRODID:-//BPW Ticino//NONSGML kigkonsult.se iCalcreator 2.16.12//
METHOD:PUBLISH
X-MS-OLK-FORCEINSPECTOROPEN:TRUE
BEGIN:VEVENT
UID:20260422T194710CEST-3428beHUO2@BPW Ticino
DTSTAMP:20260422T174710Z
DESCRIPTION:\nIl BPW Club Baselland e BPW Switzerland invitano tutti a part
 ecipare al weekend della 78a Assemblea delle Delegate a Basilea!\n\nLocati
 on\n\nMövenpick Hotel Basel\, Aeschengraben 25\, 4051 Basilea\n\nQui trova
 te il programma e tutte le informazioni sul fine settimana dell'assemblea 
 delle delegate\n\nÈ importante sapere che:\n\nI prezzi Early Bird sono val
 idi fino al 30 aprile 2025!\n\nPer usufruirne\, inserire il codice EarlyBi
 rd_DV25 nel carrello nel campo corrispondente in alto a destra e cliccare 
 sul segno più. Quindi selezionare il prezzo scontato dall'elenco.\n\nL'isc
 rizione è vincolante. In caso di disdetta entro il 30.05.2025\, verrà adde
 bitata una tassa di modifica o di cancellazione di CHF 30.00. In caso di c
 ancellazione successiva o di mancata cancellazione\, verrà addebitata l'in
 tera quota di partecipazione.\n\nRegistrazione per la Alumnae Meeting di v
 enerdì 13 giugno 2025\n\nEarly Bird Code: EarlyBird_DV25\n\n \n\n\nRegistr
 azione per il programma di sabato 14 giugno 2025\n\nEarly Bird Code: Early
 Bird_DV25\n\n \n\n\nDisclaimer:\nDurante il fine settimana dell'Assemblea 
 delle delegate verranno effettuate fotografie e/o riprese (anche sonore). 
 Chi non desidera essere fotografato o filmato può contattare direttamente 
 il fotografo o l'operatrice. Le registrazioni potranno essere utilizzate d
 a BPW per comunicazioni online\, social media\, newsletter\, sito web\, st
 ampa\, ecc. e saranno archiviate da BPW Switzerland.\n\n
DTSTART:20250613T000000
DTEND:20250615T235900
LOCATION:Hotel Mövenpick Basel
ORGANIZER:MAILTO:BPW Ticino <info@bpw-ticino.ch>
SUMMARY:Assemblea delle Dellegate 2025
END:VEVENT
END:VCALENDAR
