BEGIN:VCALENDAR
VERSION:2.0
PRODID:-//BPW Ticino//NONSGML kigkonsult.se iCalcreator 2.16.12//
METHOD:PUBLISH
X-MS-OLK-FORCEINSPECTOROPEN:TRUE
BEGIN:VEVENT
UID:20260422T212315CEST-1430V3URub@BPW Ticino
DTSTAMP:20260422T192315Z
DESCRIPTION:\n«Donne Protagoniste del Futuro»\n\nBPW Club Ticino e BPW Swit
 zerland vi invitano cordialmente alla conferenza d'autunno 2024 a Locarno!
 \n\nCliccare qui per l'invito e il programma.\n\nSede dell’Evento\n\nHOTEL
  BELVEDERE LOCARNO\nVia ai Monti\, 44\n6600 Locarno - Ticino\n\nProgramma 
 di sabato 19 ottobre 2024\n\n08:45              Registrazione e Welcome Co
 ffee.\n09:45 - 12:00: Saluto dell’autorità municipale\, Conferenza d’Autun
 no BPW Switzerland\n12:00 - 14:00: Networking Lunch\, Ristorante Hotel Bel
 vedere Locarno\n14:00 - 14:30: Talk moderato da Elettra Fiumi con Nadia Dr
 esti et Klaudia Reynicke\, regista e sceneggiatrice di talento\, il cui fi
 lm è stato selezionato come candidato ufficiale della Svizzera per gli Osc
 ar\n\n14:30 - 14:35: Presentazione Ticino Convention Bureau\n14:45 - 16:30
 : Programma culturale\n\n\n	\n	Proposta 1 : Fondazione Art Collection Ghisla
 \n	\n	\n	Proposta 2 : Alla scoperta della città di Locarno\n	\n\n\n18:30 - 20:
 00: Marché Ticino: incontri con produttori locali e degustazioni\n20:00 Ce
 na di Gala\n\nImportante da sapere\n\n\n	\n	Il programma culturale del sabat
 o pomeriggio può essere prenotato come opzione di biglietto durante la pro
 cedura di registrazione.\n	\n	\n	Al mattino si svolgerà una visita guidata di
  Locarno per i partner e gli accompagnatori interessati. I partner sono in
 oltre invitati a partecipare al programma culturale del sabato pomeriggio 
 e alla cena di gala della sera.\n	\n	\n	Importante: il pranzo non è incluso n
 é nel programma per i partner né nel programma culturale pomeridiano.\n	\n
 \n\nSoggiorno\n\nPer tutti quelli che desiderano pernottare a Locarno\, so
 no state riservate camere a tariffe speciali presso l'Hotel Belvedere Loca
 rno e l'Hotel City Locarno. Tutte le informazioni sono riportate nell'invi
 to.\n\nRegistrazione\n\nLe iscrizioni sono chiuse. Ci vediamo a Locarno!\n
 \n
DTSTART:20241019T000000
DTEND:20241019T235900
LOCATION:Hotel Belvedere
ORGANIZER:MAILTO:BPW Ticino <info@bpw-ticino.ch>
SUMMARY:Conferenza d'autunno di BPW Switzerland
END:VEVENT
END:VCALENDAR
