BEGIN:VCALENDAR
VERSION:2.0
PRODID:-//BPW Ticino//NONSGML kigkonsult.se iCalcreator 2.16.12//
METHOD:PUBLISH
X-MS-OLK-FORCEINSPECTOROPEN:TRUE
BEGIN:VEVENT
UID:20260422T212614CEST-0083fgRMU2@BPW Ticino
DTSTAMP:20260422T192614Z
DESCRIPTION:Per il consueto aperitivo mensile\, ci troveremo presso VILLA S
 ASSA\, a Lugano. \n\nIl tema della serata sarà il PERSONAL PITCH.\n\nCosto
  della serata: sfr. 20.—\, comprensivo di aperitivo con primo drink a scel
 ta e buffet. \n\nPer partecipare alla serata è necessario iscriversi trami
 te questo form entro l' 8.01.2024.  \nPagamento presso la struttura.  
DTSTART:20240111T183000
DTEND:20240111T213000
LOCATION:Villa Sassa
ORGANIZER:MAILTO:BPW Ticino <info@bpw-ticino.ch>
SUMMARY:Aperitivo Mensile
END:VEVENT
END:VCALENDAR
