BEGIN:VCALENDAR
VERSION:2.0
PRODID:-//BPW Ticino//NONSGML kigkonsult.se iCalcreator 2.16.12//
METHOD:PUBLISH
X-MS-OLK-FORCEINSPECTOROPEN:TRUE
BEGIN:VEVENT
UID:20260422T212314CEST-6383UJb4S9@BPW Ticino
DTSTAMP:20260422T192314Z
DESCRIPTION:\nSabato 17 febbraio 2024 è la Giornata della parità salariale 
 in Svizzera.\n\nFino a questo giorno\, noi donne in Svizzera lavoriamo anc
 ora senza retribuzione. Per questo è così importante che tutte noi continu
 iamo a opporci attivamente e a gran voce e a fare una campagna affinché un
  giorno questa situazione cambi: per tutte le donne che lavorano\, ma anch
 e per i nostri discendenti. Intorno a questa giornata si svolgono molti ev
 enti creativi e ricchi di azione nei nostri quasi quaranta club BPW: tenet
 e d'occhio il calendario degli eventi della vostra regione/club e fatevi c
 oinvolgere.\n\nQuest'anno\, come nel 2022\, la Giornata della parità retri
 butiva si concentra sul 'Gender Pension Gap'\, che si manifesta principalm
 ente nel secondo pilastro ed è determinato dall'imminente votazione sulla 
 riforma delle pensioni. BPW Switzerland contribuirà alla discussione in co
 rso e terrà conto dei diversi punti di vista. Invitiamo tutte le BPW a tro
 vare insieme le risposte alle seguenti domande:\n\nCosa c'entra il divario
  pensionistico di genere con l'Equal Pay Day? Quali sono i problemi strutt
 urali alla base del divario pensionistico di genere? Quali aspetti sono im
 portanti nella prossima riforma della LPP? Cosa posso fare io stessa per m
 igliorare le mie prospettive di una pensione che mi garantisca il sostenta
 mento? Quali rischi devo prendere in considerazione?\n \n\n\n
DTSTART:20240217T000000
DTEND:20240217T235900
LOCATION:Online
ORGANIZER:MAILTO:BPW Ticino <info@bpw-ticino.ch>
SUMMARY:EPD 2024: Gender Pension Gap
END:VEVENT
END:VCALENDAR
