BEGIN:VCALENDAR
VERSION:2.0
PRODID:-//BPW Ticino//NONSGML kigkonsult.se iCalcreator 2.16.12//
METHOD:PUBLISH
X-MS-OLK-FORCEINSPECTOROPEN:TRUE
BEGIN:VEVENT
UID:20260422T212519CEST-332451v0fS@BPW Ticino
DTSTAMP:20260422T192519Z
DESCRIPTION:\nThe BPW Europe working group 'Learning for Leadership' of hig
 hly experienced international trainers invite BPW and non-BPW members to t
 he 6th round of specially developed digital leadership training for women 
 only. Join the BPW Leadership Training and find answers to your questions\
 , develop your personal career plan and go on your way as a confident fema
 le leader!\n\nThe training is organized in 3 blocks and includes the 6 Ele
 ments of Leadership:\n\n\n	Self-Awareness\,\n	Vision\,\n	Drive\,\n	Control\,\n
 	Communiation\,\n	Situational Awareness.\n\n  The training is in English.\n
 \n\nFind the link to the registration form here\n\n \n\n\nWhat does this w
 orkshop offer?\n\n\n	\n	Safe space to experiment different methodology & dev
 elop leadership skills\n	\n	\n	Intimate\, small learning groups\n	\n	\n	Training
  by experienced women for other women\n	\n	\n	Intensive exchange in group wor
 k\n	\n	\n	Work in a tandem on your leadership journey\n	\n	\n	Networking and bes
 t practice sharing\n	\n	\n	​International group of participants and trainers
 \n	\n	\n	Excellent hand-out with links & further reading\n	\n	\n	Different backg
 rounds & personalities of trainers guarantee that different perspectives &
  depths of subjects are offered.\n	\n\n\nIs this workshop for me?\n\nIt is 
 appropriate for women in leadership positions\, business owners\, entrepre
 neurs\, startup founders and ambitious women who are ready to take the nex
 t step in their professional career. Are you willing to take the risk?\n\n
 PROGRAM\nFriday\, 16.02.2024\n12.30h – 17.00h (CET)\nWelcome and Introduct
 ion\nBlock 1: Self-Awareness\; Vision\n\nFriday\, 23.02.2024\n12.30h – 17.
 00h (CET)\nBlock 2: Drive\, Control\n\nFriday\, 01.03.2024\n12.30h - 17.00
 h (CET)\nBlock 3: Communication\, Situational Awareness\n\nEnd of the trai
 ning\nCosts:\nThe total amount of 270 EURO (BPW Members) and 300 EURO (BPW
  Non-members) includes also a comprehensive digital workbook.\n\nScholarsh
 ips for Young BPW:\nBPW Europe will offer scholarships for Young BPW membe
 rs. Nomination process will start in January 2024. For more information\, 
 please contact Young BPW Representative Sheerah Kim (sheerah.kim@bpw.ch).
 \n \n\n
DTSTART:20240216T123000
DTEND:20240216T170000
LOCATION:Online via Zoom
ORGANIZER:MAILTO:BPW Ticino <info@bpw-ticino.ch>
SUMMARY:Leadership Training for Women: Be a Better Leader!
END:VEVENT
END:VCALENDAR
