BEGIN:VCALENDAR
VERSION:2.0
PRODID:-//BPW Ticino//NONSGML kigkonsult.se iCalcreator 2.16.12//
METHOD:PUBLISH
X-MS-OLK-FORCEINSPECTOROPEN:TRUE
BEGIN:VEVENT
UID:20260422T211846CEST-9446dkuEI8@BPW Ticino
DTSTAMP:20260422T191846Z
DESCRIPTION:Il 4 dicembre si svolgerà il Kick-off Meeting della 4° Edizione
  del BPW Professional Mentoring\, in collaborazione con USI\, i Servizi Ca
 rriere ed il Servizio pari opportunità.\nDalle oltre 30 candidature\, sono
  state selezionate e create 25 coppie BPW Mentors/USI Mentees.\n\nProgramm
 a: \n\n18.00 Welcome\nProf. Sonja Hildebrand\,\nPro-Rector Equal Opportuni
 ties\n\n18.10 The BPW Ticino Club\nAngelica Morrone and Maria De Pascale\,
 \nCo-Presidents BPW Ticino\n\n18.20 The Professional Mentoring programme:
 \nUSI Mentees & BPW Mentors Couples\nFlavia Freitas\, Maria Gabriella Mamm
 ana and Sara Fedele\,\nCommittee Professional Mentoring Team BPW Ticino-US
 I\n\n18.45 Networking Apero
DTSTART:20231204T180000
DTEND:20231204T190000
LOCATION:USI - Room A-21 Red Building West Campus
ORGANIZER:MAILTO:BPW Ticino <info@bpw-ticino.ch>
SUMMARY:USI-BPW Professional Mentoring 23/24
END:VEVENT
END:VCALENDAR
