BEGIN:VCALENDAR
VERSION:2.0
PRODID:-//BPW Ticino//NONSGML kigkonsult.se iCalcreator 2.16.12//
METHOD:PUBLISH
X-MS-OLK-FORCEINSPECTOROPEN:TRUE
BEGIN:VEVENT
UID:20260422T212020CEST-58336ZVoXv@BPW Ticino
DTSTAMP:20260422T192020Z
DESCRIPTION:La cena di Natale delle socie BPW Ticino presso Villa Sassa\, L
 ugano. 
DTSTART:20231217T190000
DTEND:20231217T233000
ORGANIZER:MAILTO:BPW Ticino <info@bpw-ticino.ch>
SUMMARY:Cena di Natale
END:VEVENT
END:VCALENDAR
