BEGIN:VCALENDAR
VERSION:2.0
PRODID:-//BPW Ticino//NONSGML kigkonsult.se iCalcreator 2.16.12//
METHOD:PUBLISH
X-MS-OLK-FORCEINSPECTOROPEN:TRUE
BEGIN:VEVENT
UID:20260422T212400CEST-2381DMjueD@BPW Ticino
DTSTAMP:20260422T192400Z
DESCRIPTION:Per il consueto aperitivo mensile\, ci troveremo presso VILLA S
 ASSA\, a Lugano. \n\nIl tema della serata sarà il Database del BPW e la nu
 ova app\, strumenti per far rete tra di noi e con le altre socie in Svizze
 ra.\n\nCosto della serata: sfr. 24.—\, comprensivo di aperitivo con primo 
 drink a scelta e buffet. \n\nPer partecipare alla serata è necessario iscr
 iversi tramite questo form entro il 7.11.2023.  \nPagamento presso la stru
 ttura.  
DTSTART:20231110T180000
DTEND:20231110T213000
LOCATION:Villa Sassa
ORGANIZER:MAILTO:BPW Ticino <info@bpw-ticino.ch>
SUMMARY:Aperitivo Mensile
END:VEVENT
END:VCALENDAR
