BEGIN:VCALENDAR
VERSION:2.0
PRODID:-//BPW Ticino//NONSGML kigkonsult.se iCalcreator 2.16.12//
METHOD:PUBLISH
X-MS-OLK-FORCEINSPECTOROPEN:TRUE
BEGIN:VEVENT
UID:20260422T212141CEST-2275de7lv5@BPW Ticino
DTSTAMP:20260422T192141Z
DESCRIPTION:In una location davvero speciale\, il secret GARDEN di Palazzo 
 Gritti a Morcote\, curata con amore da una signora giapponese di nome Yoko
 \, ci attende un'esperienza culinaria unica.\nYoko\, maestra nell'arte del
 la cucina del Sol Levante\, ci delizierà con un aperitivo preparato con pr
 elibatezze che incarnano la storia\, la stagionalità e l'estetica giappone
 se. La cucina giapponese non è semplicemente cibo\; è un racconto di tradi
 zione e cultura\, un'armonia di sapori e una festa per gli occhi grazie al
 l'arte dell'impiattamento.\nDato l'eccezionale carattere di questa serata 
 e della location\, i posti sono limitati e sono massimo 25. \n\nDurante la
  serata approfitteremo per introdurre uno dei nostri progetti di maggior s
 uccesso: il programma Mentoring. Questo progetto prenderà il via con la qu
 inta wave\, in collaborazione con l'Usi e la SUPSI nel corso del mese.\n\n
 Costo della serata: sfr. 25.—\, comprensivo di aperitivo con cibo e drink 
 (vino o tisana).\n\nPer partecipare alla serata è necessario iscriversi tr
 amite questo form. Le iscrizioni sono soggette a pagamento anticipato tram
 ite bonifico al momento dell'iscrizione\, e la conferma dell'iscrizione av
 verrà al ricevimento del pagamento. Sono disponibili parcheggi presso l’au
 tosilo di Morcote. 
DTSTART:20230907T183000
DTEND:20230907T213000
LOCATION:Garden - SINfour
ORGANIZER:MAILTO:BPW Ticino <info@bpw-ticino.ch>
SUMMARY:Aperitivo Mensile - Secret Garden Morcote
END:VEVENT
END:VCALENDAR
