BEGIN:VCALENDAR
VERSION:2.0
PRODID:-//BPW Ticino//NONSGML kigkonsult.se iCalcreator 2.16.12//
METHOD:PUBLISH
X-MS-OLK-FORCEINSPECTOROPEN:TRUE
BEGIN:VEVENT
UID:20260422T212314CEST-1894NM4u8B@BPW Ticino
DTSTAMP:20260422T192314Z
DESCRIPTION:\nBPW auf den Spuren von Natur und Nachhaltigkeit\n\nCordiale i
 nvito alla Conferenza d’autunno di BPW Switzerland\n\nIl BPW Club Lenzburg
  e BPW Switzerland sono lieti di invitare tutte le BPW\, le persone intere
 ssate e gli ospiti alla Conferenza d’autunno di quest’anno a Lenzburg. \n
 \nProgramma del mattino\n\ndalle 08.45 registrazione e caffè di benvenuto
 \n09.45 - 12.00 parte ufficiale della Conferenza d’autunno di BPW Switzerl
 and\n12.00 - 12.30 aperitivo\n12.30 - 14.00 pranzo\n\nProgramma del pomeri
 ggio\n\n\n	\n	Museo Stapferhaus - Visita all’esposizione in corso: Natura. E
  noi? - Vi saranno due visite guidate: una in tedesco e una in francese. V
 i preghiamo di prestare attenzione alla scelta della lingua in fase d’iscr
 izione. Il numero di posti è limitato per entrambe le visite.\n	\n	\n	Ex area
  Hero: sulle tracce di ravioli\, confetture & co. (visita guidata in tedes
 co)\n	\n	\n	Area Wisa Gloria & Gloria CoWorking - nel regno dei tricicli ross
 i e dei cigni a dondolo bianchi e blu (visita guidata in tedesco)\n	\n	\n	Cen
 tro di ginnastica argoviese Traitafina - il nuovo centro d’allenamento del
 l’associazione argoviese di ginnastica (visita guidata in tedesco)\n	\n\n\n
 Tutte le visite guidate sono raggiungibili a piedi dal luogo in cui si tie
 ne la conferenza. Si consiglia di indossare scarpe comode.\n\n\nL’invito u
 fficiale e il programma completo sono disponibili qui.\n\nBuono a sapersi
 \n\n\n	\n	Per tutti coloro che preferiscono arrivare già venerdì sera sono s
 tate riservate delle camere presso l’Hotel Ochsen a Lenzburg a prezzi di f
 avore (riferimento: BPW). I prezzi ribassati sono validi fino al 15 settem
 bre 2023. Contatto: info@ochsen-lenzburg.ch\, 062 886 40 80\n	\n	\n	La quota 
 per la conferenza è di CHF 120.-\n	\n	\n	Le iscrizioni sono aperte dal 23 ago
 sto 2023 al 13 ottobre 2023. \n	\n	\n	Per le disdette entro il 13 ottobre 202
 3 sarà fatturata una tassa di storno di CHF 30 a persona. Dopo questa data
  o in caso di mancata disdetta\, sarà dovuta l’intera quota di partecipazi
 one.\n	\n\n\n\nAlla registrazione\n\n\n\n
DTSTART:20231021T000000
DTEND:20231021T235900
LOCATION:Katholisches Pfarreizentrum Lenzburg
ORGANIZER:MAILTO:BPW Ticino <info@bpw-ticino.ch>
SUMMARY:Conferenza autunnale di BPW Switzerland 
END:VEVENT
END:VCALENDAR
