BEGIN:VCALENDAR
VERSION:2.0
PRODID:-//BPW Ticino//NONSGML kigkonsult.se iCalcreator 2.16.12//
METHOD:PUBLISH
X-MS-OLK-FORCEINSPECTOROPEN:TRUE
BEGIN:VEVENT
UID:20260422T212018CEST-4226SKdgWw@BPW Ticino
DTSTAMP:20260422T192018Z
DESCRIPTION:
DTSTART:20230804T180000
DTEND:20230804T233000
LOCATION:Locarno
ORGANIZER:MAILTO:BPW Ticino <info@bpw-ticino.ch>
SUMMARY:76º Locarno Film Festival - Serata Red Carpet 
END:VEVENT
END:VCALENDAR
