BEGIN:VCALENDAR
VERSION:2.0
PRODID:-//BPW Ticino//NONSGML kigkonsult.se iCalcreator 2.16.12//
METHOD:PUBLISH
X-MS-OLK-FORCEINSPECTOROPEN:TRUE
BEGIN:VEVENT
UID:20260422T213003CEST-5696ei8pCm@BPW Ticino
DTSTAMP:20260422T193003Z
DESCRIPTION:Visita guidata alla meravigliosa Villa Heleneum - Fondazione Ba
 lly - della durata di 45 minuti circa seguita da un aperitivo presso il Li
 do San Domenico. \nVisita guidata offerta dal Club BPW Ticino\, aperitivo 
 - primo drink a scelta e buffet CHF 20-. 
DTSTART:20230706T170000
DTEND:20230706T200000
LOCATION:Villa Heleneum
ORGANIZER:MAILTO:BPW Ticino <info@bpw-ticino.ch>
SUMMARY:Visita guidata Villa Heleneum & Aperitivo Lido San Domenico
END:VEVENT
END:VCALENDAR
