BEGIN:VCALENDAR
VERSION:2.0
PRODID:-//BPW Ticino//NONSGML kigkonsult.se iCalcreator 2.16.12//
METHOD:PUBLISH
X-MS-OLK-FORCEINSPECTOROPEN:TRUE
BEGIN:VEVENT
UID:20260422T212514CEST-1747R3Utbp@BPW Ticino
DTSTAMP:20260422T192514Z
DESCRIPTION:
DTSTART:20230605T183000
DTEND:20230605T203000
ORGANIZER:MAILTO:BPW Ticino <info@bpw-ticino.ch>
SUMMARY:Aperitivo mensile
END:VEVENT
END:VCALENDAR
