BEGIN:VCALENDAR
VERSION:2.0
PRODID:-//BPW Ticino//NONSGML kigkonsult.se iCalcreator 2.16.12//
METHOD:PUBLISH
X-MS-OLK-FORCEINSPECTOROPEN:TRUE
BEGIN:VEVENT
UID:20260422T212518CEST-8233igIgvD@BPW Ticino
DTSTAMP:20260422T192518Z
DESCRIPTION:\nNous sommes très heureuses de proposer cet atelier à tous nos
  membres dans le cadre de notre campagne 'Les femmes à des postes de direc
 tion'.\n\nQu’est-ce que #IAmRemarkable ?\n\n#IAmRemarkable est une initiat
 ive internationale de Google qui vise à valoriser tout le monde\, en parti
 culer les groupes sous-représentés\, et à fêter les réussites\, tant sur l
 e lieu de travail qu’en dehors.\n\nDurant cet atelier\, vous découvrirez l
 ’importance de l’autopromotion dans votre vie personnelle et professionnel
 le\, et nous vous donnerons des outils pour développer cette compétence.\n
 \nCet atelier sera animé par Camille Godet.\n\nPendant 90 minutes\, les pa
 rticipants vont:\n\n\n	\n	Réfléchir aux croyances qui nous limitent lorsqu'i
 l s'agit d'autopromotion.\n	\n	\n	Apprendre davantage sur la recherche derriè
 re l'autopromotion et pourquoi elle est associée à de nombreux préjugés.\n
 	\n	\n	Faire un exercice qui aide à reconnaître ses propres succès et à les p
 artager avec les autres.\n	\n	\n	En discuter et recevoir des exercices supplé
 mentaires à faire chez soi.\n	\n\n\nQuand : Le 11 Mai\, à midi\, de 12h à 1
 3h30.\nOù : en ligne via Google Meet\nLangue : Cet atelier se déroulera en
  français.\n\nQui peut y participer ?\nJusqu'à 20 membres BPW et personnes
  intéressées.\n\nInformations complémentaires :\n\nIl s'agit d'un atelier 
 interactif qui se déroule à midi et auquel toutes les participantes sont i
 nvitées à prendre part. Afin de garantir que les participantes puissent s'
 impliquer activement et se sentir à l'aise\, le nombre de participantes es
 t limité à 20.\n\nNous vous prions de vous inscrire ici jusqu'au 30 avril 
 2023.\n\n
DTSTART:20230511T120000
DTEND:20230511T133000
LOCATION:Online via Google Meet 
ORGANIZER:MAILTO:BPW Ticino <info@bpw-ticino.ch>
SUMMARY:#IAmRemarkable Workshop en français
END:VEVENT
END:VCALENDAR
