BEGIN:VCALENDAR
VERSION:2.0
PRODID:-//BPW Ticino//NONSGML kigkonsult.se iCalcreator 2.16.12//
METHOD:PUBLISH
X-MS-OLK-FORCEINSPECTOROPEN:TRUE
BEGIN:VEVENT
UID:20260423T001736CEST-6204iWsngp@BPW Ticino
DTSTAMP:20260422T221736Z
DESCRIPTION: \nEin gemeinsamer Event von Girls in Tech\, BPW Switzerland\, 
 Female Founder Initiative und der Programmkommission des BPW Clubs Zürich 
 zum Thema des diesjährigen Internationalen Frauentags.\n\nDatum: 8.3.2023\
 , 18:00 Uhr\nOrt: Kraftwerk\, Impact Hub Zürich\, https://goo.gl/maps/mfHZ
 Y4LB4rZhkn1Z8\nGrösse: ca 100-120 Personen\nSprache: Englisch\nPreis: Nur 
 CHF 5\nTickets: hier\n\nWichtig: Vergünstigter Ticketverkauf für BPW wird 
 über die interne LinkedIn Gruppe von BPW Switzerland verkündet! --> https:
 //www.linkedin.com/groups/7460185/\n\nFemale Founder Initiative and Girls 
 in Tech Switzerland are excited to invite you to a special event on March 
 8th. Join us on International Women’s Day to celebrate diversity in tech\,
  in the start-up world\, and beyond.\n\nCelebrate International Women’s Da
 y with us through a community & networking event co-hosted by the Female F
 ounder Initiative and joined by our friends from BPW Switzerland\, BPW Zur
 ich and maruu. All genders welcome!\n\nWeitere Details zum Anlass\n\nWeite
 re Infos zum International Women's Day sind hier zu finden.\n\n\n
DTSTART:20230308T180000
DTEND:20230308T220000
ORGANIZER:MAILTO:BPW Ticino <info@bpw-ticino.ch>
SUMMARY:International Women's Day IWD 2023 Theme: “DigitALL: Innovation and
  technology for gender equality”
END:VEVENT
END:VCALENDAR
