BEGIN:VCALENDAR
VERSION:2.0
PRODID:-//BPW Ticino//NONSGML kigkonsult.se iCalcreator 2.16.12//
METHOD:PUBLISH
X-MS-OLK-FORCEINSPECTOROPEN:TRUE
BEGIN:VEVENT
UID:20260422T211913CEST-0699fvK03H@BPW Ticino
DTSTAMP:20260422T191913Z
DESCRIPTION:
DTSTART:20230311T180000
DTEND:20230311T230000
ORGANIZER:MAILTO:BPW Ticino <info@bpw-ticino.ch>
SUMMARY:Festeggiamo 40 anni di BPW Ticino
END:VEVENT
END:VCALENDAR
