BEGIN:VCALENDAR
VERSION:2.0
PRODID:-//BPW Ticino//NONSGML kigkonsult.se iCalcreator 2.16.12//
METHOD:PUBLISH
X-MS-OLK-FORCEINSPECTOROPEN:TRUE
BEGIN:VEVENT
UID:20260422T212517CEST-6652js6orj@BPW Ticino
DTSTAMP:20260422T192517Z
DESCRIPTION:
DTSTART:20230313T180000
DTEND:20230313T210000
ORGANIZER:MAILTO:BPW Ticino <info@bpw-ticino.ch>
SUMMARY:Assemblea delle Socie 2023
END:VEVENT
END:VCALENDAR
