BEGIN:VCALENDAR
VERSION:2.0
PRODID:-//BPW Ticino//NONSGML kigkonsult.se iCalcreator 2.16.12//
METHOD:PUBLISH
X-MS-OLK-FORCEINSPECTOROPEN:TRUE
BEGIN:VEVENT
UID:20260423T001736CEST-42829XAo10@BPW Ticino
DTSTAMP:20260422T221736Z
DESCRIPTION:L'Equal Pay Day è una giornata nazionale di azione che rende vi
 sibile il divario salariale tra uomini e donne. In questa giornata\, in di
 verse città della Svizzera saranno distribuite le famose borse Equal Pay D
 ay per sensibilizzare la popolazione in merito alla parità salariale. \nBP
 W Ticino sostiene da sempre la parità salariale e l'importanza delle donne
  nei ruoli apicali. \n\nBPW Ticino sarà presente con una postazione EPD in
  Piazza Dante a Lugano\n18 Febbraio 2023 - h 11.00 - 15.00
DTSTART:20230218T113000
DTEND:20230218T160000
ORGANIZER:MAILTO:BPW Ticino <info@bpw-ticino.ch>
SUMMARY:EQUAL PAY DAY 2023 - TICINO
END:VEVENT
END:VCALENDAR
