BEGIN:VCALENDAR
VERSION:2.0
PRODID:-//BPW Ticino//NONSGML kigkonsult.se iCalcreator 2.16.12//
METHOD:PUBLISH
X-MS-OLK-FORCEINSPECTOROPEN:TRUE
BEGIN:VEVENT
UID:20260422T225004CEST-6071RZS9u0@BPW Ticino
DTSTAMP:20260422T205004Z
DESCRIPTION:\n \n\nAujourd'hui encore\, l'égalité salariale ne va pas de so
 i - et nous voulons changer cela. L'association faîtière des femmes allian
 ce F et BPW Switzerland s'associent pour l'Equal Pay Day 2023 afin que dav
 antage d'entreprises s'engagent publiquement en faveur de l'égalité salari
 ale.\n\nCheck your Salary est un projet existant d'alliance F qui informe 
 les entreprises et les employé-e-s de manière simple et accessible sur le 
 thème de l'égalité des salaires et des chances. En automne 2022\, un conco
 urs a permis de lancer un mouvement d'entreprises modernes qui s'engagent 
 pour un marché du travail attractif et des salaires équitables.\nCe mouvem
 ent va prendre une nouvelle dynamique grâce à la coopération entre allianc
 e F et BPW Switzerland à l'occasion de l'Equal Pay Day 2023. Nous voulons 
 ensemble combler les écarts salariaux - afin que les futurs Equal Pay Days
  tombent déjà le 1er janvier. Dans l'esprit de motiver les entreprises\, i
 l s'agit de mobiliser en permanence de nouvelles entreprises (en particuli
 er les plus petites) pour vérifier les salaires. Avec Logib 2\, qui s'adre
 sse aux PME de moins de 100 employés\, la Confédération a perfectionné son
  outil d'analyse des salaires. Il permet à ces petites entreprises d'analy
 ser volontairement et en toute simplicité leur structure salariale.\nC'est
  maintenant au tour de tous les entrepreneur-e-s et employeur-e-s - inform
 ez-vous sur les conditions de participation sur la page d'information et i
 nscrivez-vous dès aujourd'hui au challenge Equal Pay Day. La condition min
 imale est un contrôle des salaires avec Logib ou un autre outil d'analyse 
 des salaires. Vous trouverez plus d'informations sur Logib 1 et 2 ici. Par
 ticiper en vaut la peine : les participant-e-s deviennent partie intégrant
 e de notre campagne\, renforcent le mouvement pour l'égalité des salaires 
 en Suisse et bénéficient d'une visibilité via les canaux de l'alliance F e
 t de BPW Switzerland.\n \n\n\n
DTSTART:20230218T000000
DTEND:20230218T235900
LOCATION:Ganze Schweiz
ORGANIZER:MAILTO:BPW Ticino <info@bpw-ticino.ch>
SUMMARY:Equal Pay Day 2023
END:VEVENT
END:VCALENDAR
