BEGIN:VCALENDAR
VERSION:2.0
PRODID:-//BPW Ticino//NONSGML kigkonsult.se iCalcreator 2.16.12//
METHOD:PUBLISH
X-MS-OLK-FORCEINSPECTOROPEN:TRUE
BEGIN:VEVENT
UID:20260423T001736CEST-2273BIKzn4@BPW Ticino
DTSTAMP:20260422T221736Z
DESCRIPTION:\nAu début de l'année 2023\, nous vous invitons à une formation
  pour les membres du comité directeur : Le 28 janvier 2023 de 09h30 à 13h0
 0.\n\nCe qu'il faut savoir\n\nLa formation s'adresse à tous les membres de
 s comités futurs ou déjà élus de tous les clubs BPW de Suisse.\n\nCette an
 née\, la formation aura à nouveau lieu en personne\, afin de nous donner à
  toutes l'occasion de discuter directement de thèmes et de nous mettre en 
 réseau.\n\nNous nous retrouvons à 09h30 au bureau central de BPW Switzerla
 nd\, la formation débute à 10h. L'adresse est la suivante : Länggassstrass
 e 10\, 3012 Berne.\n\nLes thèmes abordés seront entre autres : Objectifs e
 t valeurs de BPW\, programme annuel 2023\, CC - secrétariat - clubs : quel
 les sont les responsabilités de chacune?\, Equal Pay Day 2023\, aperçu des
  projets de BPW Switzerland\, finances\, médias sociaux : Comment les util
 isons-nous pour nous-mêmes ?\n\nLa formation se termine à 13 heures. Elle 
 sera suivie d'une petite collation et d'autres possibilités d'échanger et 
 de poser des questions.\n\nSi des questions concrètes ou des souhaits de t
 hèmes apparaissent à l'avance\, nous vous prions de nous les faire parveni
 r par e-mail à info@bpw.ch.\n\nLes personnes qui souhaitent se joindre à n
 ous uniquement en ligne peuvent le faire et le mentionner dans leur inscri
 ption. En cas de participation via le zoom\, la formation ne peut toutefoi
 s être suivie qu'en tant qu'auditrice \; une participation active est uniq
 uement possible sur place. Le lien zoom correspondant sera envoyé après l'
 inscription.\n\nEn tant qu'association multilingue\, nous nous efforcerons
  - comme toujours - de rendre justice à toutes les langues de notre associ
 ation. Néanmoins\, des connaissances de l'allemand (compréhension orale) s
 eront très utiles pour participer à la formation. Merci de votre compréhen
 sion !\n\nNous vous prions de vous inscrire avant le 22 janvier 2023.\n\nN
 ous nous réjouissons d'un échange animé avec vous et vous souhaitons encor
 e une fois à tous par ce biais un bon départ dans une nouvelle année joyeu
 se et saine !\n\n\n
DTSTART:20230128T100000
DTEND:20230128T130000
LOCATION:Geschäftsstelle BPW Switzerland
ORGANIZER:MAILTO:BPW Ticino <info@bpw-ticino.ch>
SUMMARY:Formation pour les futurs membres des comités de clubs
END:VEVENT
END:VCALENDAR
