BEGIN:VCALENDAR
VERSION:2.0
PRODID:-//BPW Ticino//NONSGML kigkonsult.se iCalcreator 2.16.12//
METHOD:PUBLISH
X-MS-OLK-FORCEINSPECTOROPEN:TRUE
BEGIN:VEVENT
UID:20260423T001730CEST-0885KuOUMl@BPW Ticino
DTSTAMP:20260422T221730Z
DESCRIPTION:\nEthical practice of Artificial Intelligence algorithms and it
 s impact on young girls and women\n\nAn official NGO CSW Parallel Event by
  Young BPW Business & Professional Women\n\nWhen: Saturday\, 11th March 20
 23\,\n\n\n15:00 CET (9 AM EST)\n\nWhere: University of Geneva & Online\nUn
 iversity of Geneva\, Building: Uni Mail\, Room: S130\nhttps://goo.gl/maps/
 YhQbp8VgbSoVqZup6\n\nLanguage: English\n\nThis is a collaboration event by
  Young BPW Switzerland\, Young BPW Germany\, BPW Club Genève\, BPW Club La
 ke Geneva.\n\nRead more here: Event information\, Panelists and Organisati
 on Committee\n\nWe will talk about\n\n\n	\n	#psychologicalsafety when expose
 d to algorithms of social media\n	\n	\n	How can #AI #algorithms help to promo
 te DEI #diversity\, #equity & #inclusion and what the role of policy maker
 s\, educators\, programmers and corporations?\n	\n\n\nInteract with the glo
 bal community of the NGO CSW and Business & Professional Women\n\nThe Virt
 ual Forum Portal of CSW comes with a chat functionality for those attendin
 g online and the participants on-site will have the chance to meet & greet
  with the panelists and Young BPW community pre- and post-event in Geneva.
 \n\nRegister here to access the NGO CSW Virtual Forum Platform: https://ng
 ocsw67forum.events.whova.com/Agenda/2861719\n\nYoung BPW Core Team: Julia 
 Claussen\, Katja Kreyenkamp\, Rebecca Polz\, Nayla Ventura\, Sheerah Kim\n
 \nGet your ticket here\n\n
DTSTART:20230311T000000
DTEND:20230311T235900
ORGANIZER:MAILTO:BPW Ticino <info@bpw-ticino.ch>
SUMMARY:UN Women CSW 67: hybrid event in Geneva on 11th March 2023 by Young
  BPW
END:VEVENT
END:VCALENDAR
