BEGIN:VCALENDAR
VERSION:2.0
PRODID:-//BPW Ticino//NONSGML kigkonsult.se iCalcreator 2.16.12//
METHOD:PUBLISH
X-MS-OLK-FORCEINSPECTOROPEN:TRUE
BEGIN:VEVENT
UID:20260422T212345CEST-1711dJS6FF@BPW Ticino
DTSTAMP:20260422T192345Z
DESCRIPTION:\n… e al 25° anniversario del BPW Club Oberaargau\n\nBPW Switze
 rland e BPW Club Oberaargau vi invitano cordialmente al fine settimana del
 l'Assemblea delle Delegate 2023\, il 2 e 3 giugno 2023 a Langenthal.\n\nNe
 l volantino d'invito troverete tutte le informazioni dettagliate su progra
 mma\, alloggio e prezzi.\n\nAl volantino di invito\n\nLa registrazione è p
 ossibile in fondo a questa pagina. Le tariffe early bird si applicano fino
  al 5 maggio 2023 incluso. Per beneficiare della tariffa Early Bird\, atti
 vare il codice di sconto 'DV23' al momento dell'acquisto del biglietto e f
 are clic sul simbolo rosso.\n\nAl programma\n\nAlumnae meeting\, venerdì 2
  giugno 2023\n\nUn evento per ex presidenti e presidenti in carica dei clu
 b e per ex socie e socie attive nel comitato centrale.\n\nTema: chi siamo 
 e dove vogliamo andare? Analisi\, sfide\, raccomandazioni d’azione\; prese
 ntazione e discussione dei risultati del sondaggio tra le socie di BPW Swi
 tzerland.\n\nLuogo         Parkhotel Langenthal\, Weststrasse 90\, 4900 La
 ngenthal\n                   info@parkhotel-langenthal.ch\n\n17.00        
   Arrivo delle presidenti e degli ospiti (check-in individuale)\n\n18.00  
         Alumnae-Meeting con aperitivo\n\n20.00          Cena\n\nAlla regis
 trazione di venerdì 2 giugno 2023\n\nSabato 3 giugno 2023\, Assemblea dell
 e delegate\n\nLuogo         Parkhotel Langenthal\, Weststrasse 90\, 4900 L
 angenthal\n\n08.30           Ricevimento\, caffè di benvenuto\n\n10.00-12.
 00  Workshop\n\nWorkshop 1: BPW werden und BPW bleiben – Ideen und Lösungs
 ansätze für BPW Clubs\n(con Andrea Bläsi\, Claudine Esseiva\, Sandra Fröhl
 ich e Souad Hächler)\n\nWorkshop 2: Pimp your Linkedin – Welches Potential
  steckt in meinem Profil für meine eigene Visibilität?\n(con Joanne Kim e 
 Sheerah Kim) --> Questo workshop sarà tradotto simultaneamente in francese
 .\n\nWorkshop 3: Reverse Mentoring – Wie können die verschiedenen Generati
 onen bei BPW voneinander lernen und profitieren? (con Sandra Jauslin)\n\nW
 orkshop 4: Frauenthemen? Gibt es nicht! - Politisch denken\, handeln\, Ver
 antwortung übernehmen (con Myriam Heidelberger e Beatrice Lüthi\, Past Pre
 sident BPW Switzerland)\n\n12.00                Pranzo\n\n14.00-17.00     
  Assemblea delle Delegate\, nella Westhalle A\n\n18.30                 Ape
 ritivo\n\n19.30                 Cena di gala per l’anniversario\, nella We
 sthalle B\n\nBuono a sapersi:\n\n\n	\n	Durante il fine settimana dell’Assemb
 lea delle Delegate 2023\, tutte le BPW\, le persone interessate e i loro p
 artner sono invitati a trascorrere un fine settimana stimolante a Langenth
 al.\n	\n	\n	I partner sono benvenute alla cena di gala di sabato sera. Sabato
  pomeriggio\, il BPW Club Oberaargau ha preparato un programma interessant
 e per i partner. Tutte le informazioni sono riportate nel volantino di inv
 ito.\n	\n	\n	l’iscrizione per il nostro fine settimana dell’Assemblea delle D
 elegate avviene ora con un sistema di biglietti. Potete comporre il vostro
  programma individuale e pagare comodamente con carta di credito\, Twint o
 \, come sempre\, tramite fattura. A pagamento avvenuto\, riceverete il big
 lietto in formato elettronico. Per questo motivo\, è necessario acquistare
  dei biglietti separati per i partner.\n	\n	\n	Le tariffe Early Bird sono val
 ide fino al 5 maggio 2023. Per beneficiare della tariffa Early Bird\, atti
 vare il codice di sconto 'DV23' al momento dell'acquisto del biglietto e f
 are clic sul simbolo rosso.\n	\n	\n	L'iscrizione è vincolante. In caso di ann
 ullamento dell'iscrizione entro il 22.05.2023\, verrà addebitata una tassa
  di CHF 30.00\, in seguito - o in caso di mancata cancellazione dell'iscri
 zione - verrà addebitata l'intera quota di partecipazione.\n	\n	\n	A partire 
 dal 25 maggio 2023\, è possibile prenotare solo la partecipazione all'Asse
 mblea dei delegati\, senza consumo\, programma sociale o partner.\n	\n	Le is
 crizioni sono chiuse. Per la partecipazione all'Assemblea dei delegati sen
 za programma sociale\, scrivere un'e-mail a info@bpw.ch.\n	\n\n\n
DTSTART:20230602T000000
DTEND:20230603T235900
LOCATION:Parkhotel Langenthal
ORGANIZER:MAILTO:BPW Ticino <info@bpw-ticino.ch>
SUMMARY:Assemblea delle Dellegate 2023
END:VEVENT
END:VCALENDAR
