BEGIN:VCALENDAR
VERSION:2.0
PRODID:-//BPW Ticino//NONSGML kigkonsult.se iCalcreator 2.16.12//
METHOD:PUBLISH
X-MS-OLK-FORCEINSPECTOROPEN:TRUE
BEGIN:VEVENT
UID:20260422T224438CEST-33434ZxU71@BPW Ticino
DTSTAMP:20260422T204438Z
DESCRIPTION:Pensare al Femminile - A lezione di Felicità\n\n“Abbiamo solo u
 na vita da vivere e sarebbe bello che fosse quella che desideriamo.”\n\nDi
  questo e tanto altro ci parlerà la nostra socia Flavia Milani - Formatric
 e\, Coach\, Chief Happiness Officer - durante la serata di presentazione d
 ella sua attività e di come è riuscita\, a 56 anni\, a voltare pagina e a 
 creare la sua nuova vita\, allineata ai propri valori e nel rispetto del s
 uo Essere.
DTSTART:20220914T183000
DTEND:20220914T203000
ORGANIZER:MAILTO:BPW Ticino <info@bpw-ticino.ch>
SUMMARY:Pensare al Femminile
END:VEVENT
END:VCALENDAR
