BEGIN:VCALENDAR
VERSION:2.0
PRODID:-//BPW Ticino//NONSGML kigkonsult.se iCalcreator 2.16.12//
METHOD:PUBLISH
X-MS-OLK-FORCEINSPECTOROPEN:TRUE
BEGIN:VEVENT
UID:20260422T224901CEST-8237H61vvA@BPW Ticino
DTSTAMP:20260422T204901Z
DESCRIPTION:\nBPW Europe Learning for Leadership are delighted to announce 
 the next round of BPW Leadership Training for Women!\nOur three half-day i
 nteractive online training will be held on Fridays\, September 23rd\, 27th
  and October 7th\, 2022 from 12:30-17:00 CET.\n\nWhat is the workshop abou
 t?\n\nThis inspirational and practical program is designed to empower wome
 n in achieving their personal and professional goals and enhance their man
 agement and leadership skills by means of theory\, practical exercises and
  shared experience. It will enable you to learn about the different aspect
 s of leadership and develop your own personal leadership style.\n\nIs this
  workshop for me?\n\nIt is appropriate for women in leadership positions\,
  business owners\, entrepreneurs\, start-uppers and ambitious women who ar
 e ready to take the next step in their professional career.\n\nMore detail
 s on the program content and registration can be found on www.bpw-lll.weeb
 ly.com Places are limited\, so hurry up and register.\n\nBest regards\n\nC
 onny Montague\, Anu Viks\, Ann Wood\, Petya Barraud\, Sabine Grosser\, She
 erah Kim\nBPW Europe Learning for Leadership\n\nTo the official invitation
  \n 
DTSTART:20220923T123000
DTEND:20221007T170000
LOCATION:Online
ORGANIZER:MAILTO:BPW Ticino <info@bpw-ticino.ch>
SUMMARY:BPW Europe Leadership for Women
END:VEVENT
END:VCALENDAR
