BEGIN:VCALENDAR
VERSION:2.0
PRODID:-//BPW Ticino//NONSGML kigkonsult.se iCalcreator 2.16.12//
METHOD:PUBLISH
X-MS-OLK-FORCEINSPECTOROPEN:TRUE
BEGIN:VEVENT
UID:20260422T225116CEST-6914mLES2n@BPW Ticino
DTSTAMP:20260422T205116Z
DESCRIPTION:75 anni di BPW Switzerland! \n\nIl Club Ticino festeggia l’even
 to sabato 10 settembre  p.v. alle 11.00 a Lugano. \n\n \n\nInterverranno:
 \n\n\n\n\n	L.Incandela e M. Pugnaloni\, co-presidenti BPW Ticino\n	R. Bertuc
 cio e L. Herzog\, Comitato Centrale BPW Switzerland\n	Dr. Catherine Bosshar
 t\, presidente BPW International \n	On. Norman Gobbi\, Consigliere di Stato
 \n	On. Raffaele De Rosa\, Consigliere di Stato\n	On. Marco Romano\, Consigli
 ere Nazionale\n	Ing. Cristina Zanini\, Municipale Comune di Lugano \n	Dr. Ca
 rla Laura Petruzzelli\, Presidente FIDAPA BPW Italy Distretto Nord Est\n\n
 \nNel corso della mattinata è prevista:\n\n\n\n	Mostra fotografica: 'Giubil
 eo BPW Switzerland\, insieme da 75 anni'\n	Cerimonia di amicizia con FIDAPA
  BPW Italy Distretto Nord Est\n	Standing Lunch\n\n\n\nIntervento musicale a
  cura del Conservatorio della Svizzera Italiana.\n
DTSTART:20220910T110000
DTEND:20220910T150000
ORGANIZER:MAILTO:BPW Ticino <info@bpw-ticino.ch>
SUMMARY:Giubileo BPW Switzerland
END:VEVENT
END:VCALENDAR
