BEGIN:VCALENDAR
VERSION:2.0
PRODID:-//BPW Ticino//NONSGML kigkonsult.se iCalcreator 2.16.12//
METHOD:PUBLISH
X-MS-OLK-FORCEINSPECTOROPEN:TRUE
BEGIN:VEVENT
UID:20260423T001823CEST-12908Ekhfi@BPW Ticino
DTSTAMP:20260422T221823Z
DESCRIPTION:Come ogni anno il BPW Club Ticino celebra l’appuntamento più im
 portante dell’intero calendario dell’associazione: “La Cerimonia Internazi
 onale delle Candele”. \n\nIstituita dalla fondatrice del BPW\, Lena Madesi
 n Phillips\, durante la seconda guerra mondiale - la Cerimonia delle Cande
 le simboleggia la solidarietà femminile a livello mondiale. Ogni anno è ce
 lebrata dai Club BPW di tutto il mondo. Si tratta di una serata suggestiva
 \, che riunisce tutti i club in un simbolico abbraccio per ricordare le am
 bizioni e l’opera delle donne impegnate in ogni parte del globo.\n
DTSTART:20220621T183000
DTEND:20220621T213000
LOCATION:Hotel Villa Sassa
ORGANIZER:MAILTO:BPW Ticino <info@bpw-ticino.ch>
SUMMARY:Cerimonia delle Candele 2022
END:VEVENT
END:VCALENDAR
