BEGIN:VCALENDAR
VERSION:2.0
PRODID:-//BPW Ticino//NONSGML kigkonsult.se iCalcreator 2.16.12//
METHOD:PUBLISH
X-MS-OLK-FORCEINSPECTOROPEN:TRUE
BEGIN:VEVENT
UID:20260422T224749CEST-1699zcSlDN@BPW Ticino
DTSTAMP:20260422T204749Z
DESCRIPTION:BPW Ticino accoglie le nuove Socie 2022 presso l'Hotel de la Pa
 ix\, via Cattori 18\, Lugano. 
DTSTART:20220428T183000
DTEND:20220428T210000
ORGANIZER:MAILTO:BPW Ticino <info@bpw-ticino.ch>
SUMMARY:BPW Ticino accoglie le nuove Socie
END:VEVENT
END:VCALENDAR
