BEGIN:VCALENDAR
VERSION:2.0
PRODID:-//BPW Ticino//NONSGML kigkonsult.se iCalcreator 2.16.12//
METHOD:PUBLISH
X-MS-OLK-FORCEINSPECTOROPEN:TRUE
BEGIN:VEVENT
UID:20260422T225402CEST-1903Cupw8n@BPW Ticino
DTSTAMP:20260422T205402Z
DESCRIPTION: \n\nNational Young BPW Day at Stapferhaus Lenzburg and Female 
 Founders Impact Hub Zurich\n\nYoung BPW Switzerland\, BPW Club Lenzburg an
 d BPW Club Zurich cordially invite you to the national event for Young BPW
  Switzerland.\n\nImportant: The afternoon programme at Impact Hub Zürich i
 s postponed until further notice and will not take place on 30th April 202
 2.\n\nTickets are still available for the morning programme at the Stapfer
 haus Lenzburg and we look forward to your registration.\n \n\nUpdated time
 plan\n\n09:45 Registration at Stapferhaus\n10:00 Guided Tour\n12:00 Networ
 king Lunch\n13:00 End of Event\n\n\n	\n	participants who have already purcha
 sed tickets have received a separate email\n	\n	\n	morning programme incl. ne
 tworking lunch will take place as planned at Stapferhaus Lenzburg. Purchas
 ed tickets for the morning programme will be valid for the event.\n	\n	\n	tic
 kets for the afternoon programme will be reimbursed\n	\n	\n	Participants who 
 bought a full-day ticket will get a partial reimbursement and are welcome 
 to join us at Stapferhaus as planned.\n	\n\n\n\nTo the SAVE THE DATE and pr
 ogram\n \n\nThis event is aimed at Young BPW and all interested parties. Y
 ou are welcome to forward the invitation to your friends\, colleagues\, bo
 sses\, in short: to anyone who is interested.\n\nThe guided tour at the St
 apferhaus will be held in English.\n\nOrganization: Sheerah Kim\, BPW Club
  Zurich\n\nRegister here! \n\n 
DTSTART:20220430T100000
DTEND:20220430T180000
LOCATION:Lenzburg und Zürich 
ORGANIZER:MAILTO:BPW Ticino <info@bpw-ticino.ch>
SUMMARY:National Young BPW Day
END:VEVENT
END:VCALENDAR
