BEGIN:VCALENDAR
VERSION:2.0
PRODID:-//BPW Ticino//NONSGML kigkonsult.se iCalcreator 2.16.12//
METHOD:PUBLISH
X-MS-OLK-FORCEINSPECTOROPEN:TRUE
BEGIN:VEVENT
UID:20260422T230045CEST-3514LhKBSE@BPW Ticino
DTSTAMP:20260422T210045Z
DESCRIPTION:\nVolantino d'invito del BPW Club Uri con tutte le informazioni
  rilevanti su la conferenza 2022 \n\nProgramma del giorno\, 5 novembre 202
 2\n\nDalle 9 alle 9.45            Incontro e registrazione\n              
                         presso la reception del Radisson Blu Hotel Reussen
 \n                                      A seguire caffè di benvenuto\n    
                                   nel foyer dell’Andermatt Concert Hall ne
 llo stesso stabile\n\nDalle 9.45 alle 10           Saluto del BPW Club Uri
  nell’Andermatt Concert Hall\n                                       Salut
 o della consigliera di stato del Canton Uri\,\n                           
             la Dott.ssa Heidi Z’graggen\n\nDalle 10 alle 12.30          Co
 nferenza d’autunno nazionale di BPW Switzerland\n\nDalle 12.30 alle 14    
       Pranzo al Restaurant Spun\n\nDalle 14.15 alle 17          Programma 
 pomeridiano nell’Andermatt Concert Hall\n\n                               
          Breve film\n\n                                        Presentazio
 ni\n\n                                        Doris Russi Schurter\, impre
 nditrice\n                                        Filomena Russo\, assiste
 nza di persone con difficoltà psichiche\n                                 
        Rita Christen\, presidente dell’Associazione svizzera\n            
                             delle guide di montagna\n\n                   
                      Discussione\n                                        
 moderata da Elisabeth Fähndrich del BPW Club Uri\n\nSerata d’anniversario
 \n\nLe socie BPW e i loro partner\, nonché gli ospiti\, sono cordialmente 
 invitati a festeggiare il 25° anniversario del BPW Club Uri.\n\nDresscode 
                        sportivo-elegante\n                                
          Possibilità di cambiarsi negli spogliatoi\n                      
                    della spa del Radisson Blu Hotel Reussen.\n\nDalle 18 a
 lle 18.45            Aperitivo nel foyer dell’Andermatt Concert Hall\n\nDa
 lle 19 alle 23                 Cena d’anniversario\n                      
                     nell’Andermatt Concert Hall con sorprese culturali\n\n
 Dalle 23                             Young BPW Girls Night Out\n          
                                 per le Young BPW e per tutte coloro che de
 siderano partecipare\n                                          organizzat
 o da Sheerah Kim\, Young Representative BPW Switzerland\n                 
                          Tutte le informazioni qui\n\nCosti e iscrizione\n
 \nPrezzi a persona \nConferenza d’autunno con pranzo (incl. acqua minerale
  e caffè)\,\nprogramma pomeridiano\nCHF 135.-\n\nCena d’anniversario\n(inc
 l. aperitivo\, acqua minerale e caffè)\nCHF 105.-\n\nConferenza d’autunno\
 , pranzo\, programma pomeridiano e cena d’anniversario\nCHF 235.-\n\nIscri
 zione online\n\n\nLa registrazione è vincolante. Per le cancellazioni rice
 vute entro il 30 settembre 2022 verrà addebitata una tassa di storno di CH
 F 30 a persona. Dopo questa data o in caso di mancata cancellazione\, sarà
  dovuta l’intera quota di partecipazione.\n\nIl giorno dell’evento si appl
 icheranno le attuali misure pandemiche Covid19 della Confederazione risp. 
 del Canton Uri.\n\nIl termine ultimo per l'iscrizione è il 28 ottobre 2022
  alle ore 20:00. \n\nLe informazioni sul viaggio e sull'alloggio ad Anderm
 att sono riportate nel volantino d'invito. \n\nSiamo a disposizione\n\nPer
  domande sull'evento\, contattare il BPW Club Uri via e-mail: info@bpw-uri
 .ch. Per domande sull'iscrizione\, contattare BPW Switzerland all'indirizz
 o info@bpw.ch.\n\n \n\n\n\n\nGrazie mille agli sponsor!\n\n\n\n\n \n\n\n\n
 \n\n
DTSTART:20221105T000000
DTEND:20221105T235900
LOCATION:Andermatt
ORGANIZER:MAILTO:BPW Ticino <info@bpw-ticino.ch>
SUMMARY:Conferenza d'autunno BPW Switzerland e 25 anniversario di BPW Club 
 Uri
END:VEVENT
END:VCALENDAR
