BEGIN:VCALENDAR
VERSION:2.0
PRODID:-//BPW Ticino//NONSGML kigkonsult.se iCalcreator 2.16.12//
METHOD:PUBLISH
X-MS-OLK-FORCEINSPECTOROPEN:TRUE
BEGIN:VEVENT
UID:20260424T102043CEST-3198GteRMZ@BPW Ticino
DTSTAMP:20260424T082043Z
DESCRIPTION:\n\nProgramma per il fine settimana dell’Assemblea delle Delega
 te 2022\n\nIl BPW Club Vaud e BPW Switzerland sono lieti di invitare tutte
  le BPW e gli ospiti a Losanna per l’Assemblea delle Delegate 2022 e il 75
 ° anniversario di BPW Switzerland.\n\nTrovate il programma completo per il
  fine settimana dell’11-12 giugno\, tutti i prezzi e ulteriori informazion
 i di seguito.\n\nNon vediamo l’ora di trascorrere insieme un fine settiman
 a sfavillante!\n\n\nUn grande ringraziamento ai nostri sponsor\n\n\n\nAllo
 ggio e location\n\nNel luogo dell’evento stesso\, presso l’Hôtel Aquatis A
 quarium Vivarium\, sono state riservate delle camere a tariffe speciali es
 clusivamente per le partecipanti all’Assemblea delle Delegate.\n\nClicca q
 ui per maggiori informazioni...\n\nAl programma\n\n\n\nVenerdì\, 10. giugn
 o 2022\, Alumnae meeting\n\nUn incontro per le ex presidenti e le presiden
 ti attuali dei club\, membri attuali ed ex del comitato centrale e Past Pr
 esidents di BPW Switzerland.\n\nQuesto tradizionale incontro di venerdì se
 ra si prospetta essere un “viaggio nella memoria” per le partecipanti\, po
 iché si tratta di ripercorrere gli ultimi 75 anni di BPW Switzerland\, gli
  aneddoti\, le storie e le esperienze delle ex presidenti di BPW Switzerla
 nd. Insieme guarderemo al passato\, ma anche al futuro di BPW Switzerland 
 e delle donne in Svizzera.\n\nInformazioni dettagliate e registrazione...
 \n\n\nSabato\, 11 giugno 2022\, giorno dell'Assemblea delle delegate 2022
 \n\n        \nSabato mattina si terranno workshop su temi interessanti a c
 ui potranno partecipare tutte le BPW\, le persone interessate e gli ospiti
 . Nel pomeriggio\, avrà inizio la “parte ufficiale” del fine settimana: l’
 Assemblea delle Delegate di BPW Switzerland. Il comitato centrale di BPW S
 witzerland farà un resoconto dei progetti dell’anno passato e le delegate 
 voteranno sui punti all’ordine del giorno.\n\nDalle 08.30               Re
 gistrazione e caffè di benvenuto\n\nDalle 10 alle 12         Workshops\n  
                                \nDalle 12 alle 14         Pranzo a buffet
 \n\nDalle 14 alle 17          Assemblea delle Delegate BPW Switzerland\n\n
 18.30                          Aperitivo presso l’acquario\, riservato esc
 lusivamente alle BPW\n\nDalle 20 alle 00         Cena per il 75° anniversa
 rio di BPW Switzerland presso il ristorante Le Piranha (dress code: elegan
 te)\n\nProgramma partner a partire da sabato 12 giugno 2022\n\n11.30      
                     Prelevamento in hotel da parte della guida di Lausanne
  Tourisme\, visita guidata della città (con i mezzi pubblici)\n\n13.00    
                        Brunch presso il TOM café\, ristorante del Museo Ol
 impico (selezione di antipasti da condividere\, piatto principale\, selezi
 one di                                     dessert da condividere)\n\n14.3
 0                           Visita guidata al Museo Olimpico\n\n16.00     
                       Ritorno all’Hôtel Aquatis\n\nAnche i soci sono invit
 ati a partecipare alla cena di anniversario. Questo può essere prenotato a
 nche singolarmente e indipendentemente dal programma partner. \n\nImportan
 te :\n\n\n	\n	Novità: l’iscrizione per il nostro fine settimana dell’Assembl
 ea delle Delegate avviene ora con un sistema di biglietti. Potete comporre
  il vostro programma individuale e pagare comodamente con carta di credito
 \, Twint o\, come sempre\, tramite fattura. A pagamento avvenuto\, ricever
 ete il biglietto in formato elettronico. Per questo motivo\, è necessario 
 acquistare dei biglietti separati per i partner.\n	 \n	\n	\n	Le tariffe Early 
 Bird sono state prorogate fino al 31 maggio 2022!  Per approfittare della 
 tariffa early bird\, attivate il codice di sconto BPW75 al momento dell’ac
 quisto del biglietto e cliccate sull’icona del più rosso. In questo modo o
 tterrete uno sconto di CHF 30 sulla maggior parte dei pacchetti prima del 
 20 maggio 2022.\n	\n	\n	L’iscrizione è vincolante. In caso di cancellazione d
 opo il 20 maggio 2022\, vi sarà addebitata una tassa di cancellazione pari
  a CHF 50.00.\n	A partire dal 6 giugno\, sarà possibile riservare soltanto 
 la partecipazione all’Assemblea delle Delegate\, senza consumazione\, prog
 ramma quadro o partner.\n	\n	\n	In caso di cancellazione dopo il 6 giugno o d
 i mancata cancellazione\, vi sarà addebitata l’intera quota d’iscrizione.
 \n	\n	\n	Ci riserviamo il diritto di apportare piccole modifiche al programma
  con breve preavviso.\n	\n\n\n\n\n\n
DTSTART:20220610T000000
DTEND:20220611T235900
LOCATION:Lausanne
ORGANIZER:MAILTO:BPW Ticino <info@bpw-ticino.ch>
SUMMARY:Assemblea delle delegate 2022 e Anniversario BPW Switzerland
END:VEVENT
END:VCALENDAR
