BEGIN:VCALENDAR
VERSION:2.0
PRODID:-//BPW Ticino//NONSGML kigkonsult.se iCalcreator 2.16.12//
METHOD:PUBLISH
X-MS-OLK-FORCEINSPECTOROPEN:TRUE
BEGIN:VEVENT
UID:20260422T225716CEST-7097e3Kxwc@BPW Ticino
DTSTAMP:20260422T205716Z
DESCRIPTION: \nSongez-vous à vous impliquer au sein du comité de votre BPW 
 Club? Mais ne savez-vous pas (encore) ce qui vous attend et ce qu'on atten
 d de vous?\n\nVous êtes déjà membre du comité\, mais aimeriez en savoir pl
 us sur l'association et les opportunités que BPW vous offre?\n\nAimeriez-v
 ous établir (encore) un meilleur réseau avec d'autres membres du comité da
 ns toute la Suisse?\n\nLe programme:\n\n\n	Histoire\, objectifs et valeurs 
 des BPW\n	Programme annuel 2022\, contenu et dates\n	BPW International/Europ
 e\n	Equal Pay et Equal Representation\n	Coopération avec le bureau central\,
  finances\n	Adhésions (entreprises\, jeunes\, etc.)\, mentorat et carrières
 \n	Leadership dans le domaine du volontariat\n\n\nEnfin\, nous aurons l'occ
 asion d'échanger des idées et de créer des réseaux en petits groupes.\n\nN
 ous nous réjouissons de votre inscription ! Cette année\, l'atelier aura l
 ieu en ligne via Zoom. Vous recevrez le lien d'accès à la réunion zoom dan
 s l'e-mail de confirmation après votre inscription.\n\n\n
DTSTART:20220129T090000
DTEND:20220129T120000
LOCATION:Online via Zoom
ORGANIZER:MAILTO:BPW Ticino <info@bpw-ticino.ch>
SUMMARY:Atelier pour les futurs membres des comités
END:VEVENT
END:VCALENDAR
