BEGIN:VCALENDAR
VERSION:2.0
PRODID:-//BPW Ticino//NONSGML kigkonsult.se iCalcreator 2.16.12//
METHOD:PUBLISH
X-MS-OLK-FORCEINSPECTOROPEN:TRUE
BEGIN:VEVENT
UID:20260422T224901CEST-2042z4SASC@BPW Ticino
DTSTAMP:20260422T204901Z
DESCRIPTION:EVENTO ZOOM - ISCRIVITI CLICCANDO QUI\nIn occasione dell’Equal 
 Pay Day il Business & Professional Women Club Ticino è lieto di ospitare a
 utorevoli ospiti con cui parleremo di:\n\n\n	mercato del lavoro \n	lacune pr
 evidenziali\n	medicina di genere\n\n\nOspiti: \n\nMaurizio Bigotta: PhD soc
 ioeconomia\, Responsabile del Settore Economia per l’Ufficio di Statistica
  del Cantone Ticino\n\nSusanna Grego: Dr. med. Medico Capo Clinica\, Unità
  malattie cardiovascolari rare del Cardiocentro\n\nChiara Spinetti: Econom
 ista e Pianificatrice Finanziaria\n\nModeratrice: Amalia Mirante\, PhD eco
 nomia\, Docente e Ricercatrice\n\nIscriviti all'evento cliccando qui. \n 
 \n\n\nMaurizio Bigotta\n\nSusanna Greco\n\nChiara Spinetti\n\nAmalia Miran
 te\n\n\n
DTSTART:20220215T183000
DTEND:20220215T203000
LOCATION:Online
ORGANIZER:MAILTO:BPW Ticino <info@bpw-ticino.ch>
SUMMARY:'Le diverse facce della (dis-)parità'
END:VEVENT
END:VCALENDAR
