BEGIN:VCALENDAR
VERSION:2.0
PRODID:-//BPW Ticino//NONSGML kigkonsult.se iCalcreator 2.16.12//
METHOD:PUBLISH
X-MS-OLK-FORCEINSPECTOROPEN:TRUE
BEGIN:VEVENT
UID:20260422T223844CEST-1731XUH15o@BPW Ticino
DTSTAMP:20260422T203844Z
DESCRIPTION:
DTSTART:20220201T000000
DTEND:20220228T000000
ORGANIZER:MAILTO:BPW Ticino <info@bpw-ticino.ch>
SUMMARY:Campagna Social 'Parità Salariale'
END:VEVENT
END:VCALENDAR
